BEGIN:VCALENDAR
VERSION:2.0
CALSCALE:GREGORIAN
BEGIN:VEVENT
SUMMARY:Yin Yoga XL
DTSTART;TZID=Europe/Amsterdam:20241222T143000
DTEND;TZID=Europe/Amsterdam:20241222T163000
LOCATION:Yogayurt
DESCRIPTION: Boeken via Wilma Ruinemans
STATUS:CONFIRMED
SEQUENCE:0
END:VEVENT
END:VCALENDAR