BEGIN:VCALENDAR
VERSION:2.0
CALSCALE:GREGORIAN
BEGIN:VEVENT
SUMMARY:yoga qigong
DTSTART;TZID=Europe/Amsterdam:20190813T200000
DTEND;TZID=Europe/Amsterdam:20190813T210000
LOCATION:yogayurt
DESCRIPTION: eenvoudigen oefeningen om de energie vrij door je lichaam te laten stromen.

min.5, max. 10 deelnemers
8 euro
STATUS:CONFIRMED
SEQUENCE:0
END:VEVENT
END:VCALENDAR