BEGIN:VCALENDAR
VERSION:2.0
CALSCALE:GREGORIAN
BEGIN:VEVENT
SUMMARY:Mindful Yoga - 90 minuten
DTSTART;TZID=Europe/Amsterdam:20190918T093000
DTEND;TZID=Europe/Amsterdam:20190918T110000
LOCATION:yogayurt
DESCRIPTION: mindful yoga,
rustige yoga waarin ademhaling en bewustwording centraal staat
Omgaan met gedachten,
luisteren naar de stilte in jezelf, 
ont-spannen
STATUS:CONFIRMED
SEQUENCE:0
END:VEVENT
END:VCALENDAR