BEGIN:VCALENDAR
VERSION:2.0
CALSCALE:GREGORIAN
BEGIN:VEVENT
SUMMARY:Relax yoga 90 minuten
DTSTART;TZID=Europe/Amsterdam:20191223T190000
DTEND;TZID=Europe/Amsterdam:20191223T203000
LOCATION:yogayurt
DESCRIPTION: Heerlijk rustige yogales met oa 5 elementen yoga, Tai chi en nidra
STATUS:CONFIRMED
SEQUENCE:0
END:VEVENT
END:VCALENDAR