BEGIN:VCALENDAR
VERSION:2.0
CALSCALE:GREGORIAN
BEGIN:VEVENT
SUMMARY:Yin / yoga nidra met Renée
DTSTART;TZID=Europe/Amsterdam:20200910T201500
DTEND;TZID=Europe/Amsterdam:20200910T213000
LOCATION:Lambertus Hortensiuslaan 13E Naarden
DESCRIPTION: Voor de omschrijving zie onze site onder &quot;de lessen&quot;
Let op! De lestijd is aangepast. Tijd: 20.15 tot 21.30 uur.
STATUS:CONFIRMED
SEQUENCE:0
END:VEVENT
END:VCALENDAR