BEGIN:VCALENDAR
VERSION:2.0
CALSCALE:GREGORIAN
BEGIN:VEVENT
SUMMARY:Yin / yoga nidra met Jacqueline
DTSTART;TZID=Europe/Amsterdam:20201015T202000
DTEND;TZID=Europe/Amsterdam:20201015T213500
LOCATION:Lambertus Hortensiuslaan 13E Naarden
DESCRIPTION: Een verzoek: In verband met de les ervoor kunnen wij je pas toegang verlenen tot het pand 8-10 minuten voor aanvang van de les. Kom daarom niet eerder.
Het is noodzaak dat alle mensen van de vorige les(sen) het pand hebben verlaten, voordat wij jullie kunnen binnenlaten.
Wij hebben maar 1 in- en uitgang, een smalle trap, een kleine ontvangstruimte en een smalle gang naar de beide zalen.
Wij hopen op jullie medewerking en begrip. Daarvoor dank, Yvonne
STATUS:CONFIRMED
SEQUENCE:0
END:VEVENT
END:VCALENDAR