BEGIN:VCALENDAR
VERSION:2.0
CALSCALE:GREGORIAN
BEGIN:VEVENT
SUMMARY:Hatha / Yin combinatie les met Jacqueline
DTSTART;TZID=Europe/Amsterdam:20200730T201500
DTEND;TZID=Europe/Amsterdam:20200730T213000
LOCATION:Lambertus Hortensiuslaan 13E Naarden
DESCRIPTION: 
STATUS:CONFIRMED
SEQUENCE:0
END:VEVENT
END:VCALENDAR