BEGIN:VCALENDAR
VERSION:2.0
CALSCALE:GREGORIAN
BEGIN:VEVENT
SUMMARY:Hatha / Anusara yoga met Femke
DTSTART;TZID=Europe/Amsterdam:20200816T100000
DTEND;TZID=Europe/Amsterdam:20200816T111500
LOCATION:Lambertus Hortensiuslaan 13E Naarden
DESCRIPTION: Op vrijdag middag hebben we besloten dat dit een binnen yogales wordt in de grote zaal.
STATUS:CONFIRMED
SEQUENCE:0
END:VEVENT
END:VCALENDAR