BEGIN:VCALENDAR
VERSION:2.0
CALSCALE:GREGORIAN
BEGIN:VEVENT
SUMMARY:Buiten yoga met  Ganna / bij nat weer binnen
DTSTART;TZID=Europe/Amsterdam:20200830T100000
DTEND;TZID=Europe/Amsterdam:20200830T111500
LOCATION:Lambertus Hortensiuslaan
DESCRIPTION: Om 8.15 hebben wij besloten om deze les binnen te geven ivm regen vanaf 9.45 uur.
Yvonne app. 0624506720
STATUS:CONFIRMED
SEQUENCE:0
END:VEVENT
END:VCALENDAR