BEGIN:VCALENDAR
VERSION:2.0
CALSCALE:GREGORIAN
BEGIN:VEVENT
SUMMARY:Anusara yoga met  Ganna
DTSTART;TZID=Europe/Amsterdam:20201011T100000
DTEND;TZID=Europe/Amsterdam:20201011T111500
LOCATION:Lambertus Hortensiuslaan 13E
DESCRIPTION: Een vriendelijk verzoek! Mocht je hebben geboekt en kun je toch niet komen, dan vragen wij je om tenminste 3 uur voor aanvang van de les jouw boeking te verwijderen uit dit systeem. Zo krijgen mensen die evt. op de wachtlijst staan en andere geïnteresseerden ook een kans. Annuleringen binnen 1 uur voor aanvang van de les worden van je maandelijkse tegoed gehaald.
Kom ook niet te vroeg naar de les. De deur gaat beneden 8-10 minuten voor aanvang open. Wij danken je voor je medewerking. Het Team YogaYvonne
STATUS:CONFIRMED
SEQUENCE:0
END:VEVENT
END:VCALENDAR