BEGIN:VCALENDAR
VERSION:2.0
CALSCALE:GREGORIAN
BEGIN:VEVENT
SUMMARY:Vinyasa Flow met Grace
DTSTART;TZID=Europe/Amsterdam:20200620T090000
DTEND;TZID=Europe/Amsterdam:20200620T101500
LOCATION:fijn bij jou thuis!
DESCRIPTION: 
STATUS:CONFIRMED
SEQUENCE:0
END:VEVENT
END:VCALENDAR