BEGIN:VCALENDAR
VERSION:2.0
CALSCALE:GREGORIAN
BEGIN:VEVENT
SUMMARY:Hatha yoga met Yvonne
DTSTART;TZID=Europe/Amsterdam:20201006T203000
DTEND;TZID=Europe/Amsterdam:20201006T214500
LOCATION:Lambertus Hortensiuslaan 13E Naarden
DESCRIPTION: Een verzoek: In verband met de les ervoor kunnen wij je pas toegang verlenen tot het pand ca 8-10 minuten voor aanvang van de les. Kom daarom niet eerder.
Het is noodzaak dat alle mensen van de vorige les(sen) het pand hebben verlaten, voordat wij jullie kunnen binnenlaten.
Daarvoor dank, Yvonne
Mocht je hebben geboekt en kun je toch niet komen, dan ben je verplicht om tenminste 3 uur voor aanvang van de les jouw boeking te verwijderen uit dit systeem. Zo krijgen mensen die evt. op de wachtlijst staan en andere geïnteresseerden ook een kans. Annuleringen binnen 1 uur voor aanvang van de les worden van je maandelijkse tegoed gehaald.
STATUS:CONFIRMED
SEQUENCE:0
END:VEVENT
END:VCALENDAR