BEGIN:VCALENDAR
VERSION:2.0
CALSCALE:GREGORIAN
BEGIN:VEVENT
SUMMARY:Saturday Seasonal Yoga
DTSTART;TZID=Europe/London:20260131T100000
DTEND;TZID=Europe/London:20260131T110000
LOCATION:Rutherglen United Reformed Church, 69 Johnstone Drive, Rutherglen, G73 2QA
DESCRIPTION: Start your weekend with mindful movement, gentle stretches, and a boost of energy. Whether you’re a complete beginner or an experienced yogi, this class is for you. Bring a mat and a drink of water

The class is not suitable if you are pregnant or in the postnatal period (12 months post birth). Please get in touch for a chat, as I have pre and postnatal specific classes available that will be more suitable.

Classes are non refundable and non transferable to future classes.
STATUS:CONFIRMED
SEQUENCE:0
END:VEVENT
END:VCALENDAR