BEGIN:VCALENDAR
VERSION:2.0
CALSCALE:GREGORIAN
BEGIN:VEVENT
SUMMARY:Reformer Pilates - 6 week foundation level Block
DTSTART;TZID=Europe/London:20260330T193000
DTEND;TZID=Europe/London:20260330T201500
LOCATION:Calm &amp; Core Reformer Studio, Unit 80 Morris Park, Glasgow
DESCRIPTION: Have you done reformer pilates in the past, or have you recently completed our 6 week fundamentals block ?

If so, this foundation level block is exactly where you should join to continue with your reformer journey. 

This block will pick up where you left off in the fundamentals block and we&#039;ll continue to build on the skills you learned there.  

Join me at the beautiful Calm &amp; Core reformer studio in Morris Park where we&#039;ll continue to build your strength, control and confidence on the reformer, as well as deepening your understanding of the importance of breath, alignment and core connection in your practice. 

Not suitable during pregnancy, or in the postpartum period (first 12 months after birth). Please get in touch for information on pre and postnatal classes that I offer. 

Courses and blocks are non refundable and are not transferable to future blocks. Block and course passes are only valid on the dates and times specified (16.2.26- 30.3.26)
STATUS:CONFIRMED
SEQUENCE:0
END:VEVENT
END:VCALENDAR