BEGIN:VCALENDAR
VERSION:2.0
CALSCALE:GREGORIAN
BEGIN:VEVENT
SUMMARY:Maandag Kinder Yoga - 4 tot 6 jaar met Yvonne Niño
DTSTART;TZID=Europe/Amsterdam:20250203T153000
DTEND;TZID=Europe/Amsterdam:20250203T163000
LOCATION:Haarstraat 16, gorinchem
DESCRIPTION: 
STATUS:CONFIRMED
SEQUENCE:0
END:VEVENT
END:VCALENDAR