BEGIN:VCALENDAR
VERSION:2.0
CALSCALE:GREGORIAN
BEGIN:VEVENT
SUMMARY:Atelier Parent / Enfant
DTSTART;TZID=Europe/Paris:20230211T103000
DTEND;TZID=Europe/Paris:20230211T113000
LOCATION:8 rue de Berne, Nîmes
DESCRIPTION: L&#039;atelier yoga parent / enfant se compose d’enchaînements simples adaptés aux petits élèves et d&#039;exercices de relaxation à partager en duo.

A travers des jeux, des contes, des expérimentations à plusieurs, nous développerons la conscience du corps et du souffle.

Vous apprendrez également à lâcher les tensions et à mieux appréhender vos émotions pour développer une relation plus harmonieuse avec votre enfant.

A partir de 3 ans.
STATUS:CONFIRMED
SEQUENCE:0
END:VEVENT
END:VCALENDAR