BEGIN:VCALENDAR
VERSION:2.0
CALSCALE:GREGORIAN
BEGIN:VEVENT
SUMMARY:Cursus babymassage
DTSTART;TZID=Europe/Amsterdam:20230330T103000
DTEND;TZID=Europe/Amsterdam:20230330T120000
LOCATION:Haagsch Geboortehuys of Corazon
DESCRIPTION: 
STATUS:CONFIRMED
SEQUENCE:0
END:VEVENT
END:VCALENDAR