BEGIN:VCALENDAR
VERSION:2.0
CALSCALE:GREGORIAN
BEGIN:VEVENT
SUMMARY:Groepssessie Bewust Verbonden Ademwerk
DTSTART;TZID=Europe/Amsterdam:20230728T190000
DTEND;TZID=Europe/Amsterdam:20230728T220000
LOCATION:Remonstrantse Kerk
DESCRIPTION: Bewust verbonden ademwerk is een krachtige methode om je eigen ademhaling te ervaren en te verdiepen.
Hiermee schep je ruimte voor heling op lichamelijk, mentaal en spiritueel niveau. Een ademsessie kan een enorm ontspannende en verrijkende ervaring zijn en je helpen om wat je bezighoudt in het juiste perspectief te plaatsen.
Een bewust verbonden ademsessie is thuiskomen bij je adem, bij jezelf, iedere keer weer opnieuw.
Tijdens een groepssessie word je tevens gedragen door de energie van de groep en datgene wat ons allen met elkaar verbindt.
STATUS:CONFIRMED
SEQUENCE:0
END:VEVENT
END:VCALENDAR