BEGIN:VCALENDAR
VERSION:2.0
CALSCALE:GREGORIAN
BEGIN:VEVENT
SUMMARY:Handstand-Special
DTSTART;TZID=Europe/Berlin:20220528T100000
DTEND;TZID=Europe/Berlin:20220528T120000
LOCATION:Apensen
DESCRIPTION: Spaß am Handstand! Vorübungen, Theorie und viel Spaß am ausprobieren!
STATUS:CONFIRMED
SEQUENCE:0
END:VEVENT
END:VCALENDAR