BEGIN:VCALENDAR
VERSION:2.0
CALSCALE:GREGORIAN
BEGIN:VEVENT
SUMMARY:Stretch &amp; Relax
DTSTART;TZID=Europe/Berlin:20221018T193000
DTEND;TZID=Europe/Berlin:20221018T203000
LOCATION:Apensen
DESCRIPTION: Meditation &amp;amp; Yin Yoga Sequenzen (lange entspannte Dehnhaltungen), gelegentlich ganz sanfte dynamische Mobilisation - so wohltuend!
STATUS:CONFIRMED
SEQUENCE:0
END:VEVENT
END:VCALENDAR