BEGIN:VCALENDAR
VERSION:2.0
CALSCALE:GREGORIAN
BEGIN:VEVENT
SUMMARY:Vinyasa Yoga
DTSTART;TZID=Europe/Zurich:20211129T120000
DTEND;TZID=Europe/Zurich:20211129T131500
LOCATION:you&amp;you yoga shala
DESCRIPTION: 
STATUS:CONFIRMED
SEQUENCE:0
END:VEVENT
END:VCALENDAR