BEGIN:VCALENDAR
VERSION:2.0
CALSCALE:GREGORIAN
BEGIN:VEVENT
SUMMARY:Yoga XL- Verdieping Geuren 🌸 &amp; Ademwerk🌬️
DTSTART;TZID=Europe/Brussels:20241208T093000
DTEND;TZID=Europe/Brussels:20241208T104500
LOCATION:@kinemotions ( Eikenstraat 9 Laakdal)
DESCRIPTION: 🌿 Diep Ademhalen met Etherische Oliën 🌬️

Stap binnen in een wereld van rust en hernieuwde energie tijdens ons XL Yoga lesje, ademhaling en etherische oliën samenbrengt.

🧘‍♀️ Yoga – Beweeg door kalmerende yogahoudingen.
🌬️ Ademhalingstechnieken – Ontdek ademhalingsoefeningen voor innerlijke balans.
💧 Etherische Oliën – Ervaar diepe ontspanning met zuivere geuren.

Laat spanning los, adem ruimte in, en kom volledig in contact met jezelf.
Kom ontdekken, ruiken en voelen.
STATUS:CONFIRMED
SEQUENCE:0
END:VEVENT
END:VCALENDAR