BEGIN:VCALENDAR
VERSION:2.0
CALSCALE:GREGORIAN
BEGIN:VEVENT
SUMMARY:ACT Coaching
DTSTART;TZID=Europe/Brussels:20250625T183000
DTEND;TZID=Europe/Brussels:20250625T183000
LOCATION:@kinemotions ( Eikenstraat 9 Laakdal)
DESCRIPTION: @ kinemotions Eikenstraat 9A Laakdal.
Act 1-op-1 coaching helpt bij het cultiveren van mindfulness en het leven in het hier en nu
STATUS:CONFIRMED
SEQUENCE:0
END:VEVENT
END:VCALENDAR