BEGIN:VCALENDAR
VERSION:2.0
CALSCALE:GREGORIAN
BEGIN:VEVENT
SUMMARY:Hotyoga
DTSTART;TZID=Europe/Amsterdam:20180725T201500
DTEND;TZID=Europe/Amsterdam:20180725T211500
LOCATION:Heusden-Zolder
DESCRIPTION: In 40 graden yoga
STATUS:CONFIRMED
SEQUENCE:0
END:VEVENT
END:VCALENDAR