BEGIN:VCALENDAR
VERSION:2.0
CALSCALE:GREGORIAN
BEGIN:VEVENT
SUMMARY:Hotyoga 40 graden 75 min
DTSTART;TZID=Europe/Amsterdam:20181115T190000
DTEND;TZID=Europe/Amsterdam:20181115T201500
LOCATION:Heusden-Zolder
DESCRIPTION: Pittige hotyoga les in infrarood verwarmde ruimte
STATUS:CONFIRMED
SEQUENCE:0
END:VEVENT
END:VCALENDAR