BEGIN:VCALENDAR
VERSION:2.0
CALSCALE:GREGORIAN
BEGIN:VEVENT
SUMMARY:Vinyasa les
DTSTART;TZID=Europe/Amsterdam:20181031T183000
DTEND;TZID=Europe/Amsterdam:20181031T193000
LOCATION:Heusden-Zolder
DESCRIPTION: Pittige power yoga les
STATUS:CONFIRMED
SEQUENCE:0
END:VEVENT
END:VCALENDAR