BEGIN:VCALENDAR
VERSION:2.0
CALSCALE:GREGORIAN
BEGIN:VEVENT
SUMMARY:Hotyoga marathon yin yang
DTSTART;TZID=Europe/Amsterdam:20181111T100000
DTEND;TZID=Europe/Amsterdam:20181111T120000
LOCATION:Heusden-Zolder
DESCRIPTION: Yin en yang yoga volgen elkaar op in een infrarood verwarmde ruimte van 40 graden. Je kunt beide uren meedoen of instappen om 11 uur. Stoppen om 11 uur kan natuurlijk ook! (geen ruimte om te douchen als je vroeger stopt!) kleine break van 5 minuten tussen de lessen!
STATUS:CONFIRMED
SEQUENCE:0
END:VEVENT
END:VCALENDAR