BEGIN:VCALENDAR
VERSION:2.0
CALSCALE:GREGORIAN
BEGIN:VEVENT
SUMMARY:Zonnegroeten
DTSTART;TZID=Europe/Amsterdam:20181113T184500
DTEND;TZID=Europe/Amsterdam:20181113T194500
LOCATION:Heusden-Zolder
DESCRIPTION: Samen de zonnegroeten leren en trainen naar 108 zonnegroeten
STATUS:CONFIRMED
SEQUENCE:0
END:VEVENT
END:VCALENDAR