BEGIN:VCALENDAR
VERSION:2.0
CALSCALE:GREGORIAN
BEGIN:VEVENT
SUMMARY:KERSTLES hotyoga met gewichten
DTSTART;TZID=Europe/Amsterdam:20181224T100000
DTEND;TZID=Europe/Amsterdam:20181224T110000
LOCATION:Heusden-Zolder
DESCRIPTION: In een infrarood verwarmde ruimte yoga met gewichten!
STATUS:CONFIRMED
SEQUENCE:0
END:VEVENT
END:VCALENDAR