BEGIN:VCALENDAR
VERSION:2.0
CALSCALE:GREGORIAN
BEGIN:VEVENT
SUMMARY:Kids yoga
DTSTART;TZID=Europe/Amsterdam:20190113T103000
DTEND;TZID=Europe/Amsterdam:20190113T113000
LOCATION:Heusden-Zolder
DESCRIPTION: Als kind leren ontdekken, bewegen en bewuster worden van je lichaam en je ademhaling.
STATUS:CONFIRMED
SEQUENCE:0
END:VEVENT
END:VCALENDAR