BEGIN:VCALENDAR
VERSION:2.0
CALSCALE:GREGORIAN
BEGIN:VEVENT
SUMMARY:Hotyoga met gewichten 60min
DTSTART;TZID=Europe/Amsterdam:20190124T200000
DTEND;TZID=Europe/Amsterdam:20190124T210000
LOCATION:Heusden-Zolder
DESCRIPTION: Pittige hotyoga les in 40 graden met gewichten
STATUS:CONFIRMED
SEQUENCE:0
END:VEVENT
END:VCALENDAR