BEGIN:VCALENDAR
VERSION:2.0
CALSCALE:GREGORIAN
BEGIN:VEVENT
SUMMARY:Sensation yoga!
DTSTART;TZID=Europe/Amsterdam:20190328T183000
DTEND;TZID=Europe/Amsterdam:20190328T193000
LOCATION:Heusden-Zolder
DESCRIPTION: Deze les is totaal anders dan alle andere lessen. Conditioneel pittig en vooral loslaten... op pittige muziek maken we ons hele lichaam soepel. Je mag gymschoenen dragen!
STATUS:CONFIRMED
SEQUENCE:0
END:VEVENT
END:VCALENDAR