BEGIN:VCALENDAR
VERSION:2.0
CALSCALE:GREGORIAN
BEGIN:VEVENT
SUMMARY:Partneryoga
DTSTART;TZID=Europe/Amsterdam:20190214T183000
DTEND;TZID=Europe/Amsterdam:20190214T193000
LOCATION:Heusden-Zolder
DESCRIPTION: Samen met een vriend/vriendin een yoga les volgen.Een fijne vorm van samenwerken.
STATUS:CONFIRMED
SEQUENCE:0
END:VEVENT
END:VCALENDAR