BEGIN:VCALENDAR
VERSION:2.0
CALSCALE:GREGORIAN
BEGIN:VEVENT
SUMMARY:Hotyin 75min
DTSTART;TZID=Europe/Amsterdam:20190313T193000
DTEND;TZID=Europe/Amsterdam:20190313T204500
LOCATION:Heusden-Zolder
DESCRIPTION: Dit is level II yin in een ruimte verwarmd met infrarood lampen tot 40 graden.
STATUS:CONFIRMED
SEQUENCE:0
END:VEVENT
END:VCALENDAR