BEGIN:VCALENDAR
VERSION:2.0
CALSCALE:GREGORIAN
BEGIN:VEVENT
SUMMARY:Yoga experience exclusive
DTSTART;TZID=Europe/Amsterdam:20190215T181500
DTEND;TZID=Europe/Amsterdam:20190215T193000
LOCATION:Heusden-Zolder
DESCRIPTION: Wij gaan er een lange intensieve al inclusive les van maken. Met yin yang hot en power yoga?Ik heb dan een paar dagen yoga Frankfurt gedaan en ga alle inspiratie delen!
STATUS:CONFIRMED
SEQUENCE:0
END:VEVENT
END:VCALENDAR