BEGIN:VCALENDAR
VERSION:2.0
CALSCALE:GREGORIAN
BEGIN:VEVENT
SUMMARY:vinyasa
DTSTART;TZID=Europe/Amsterdam:20190526T101500
DTEND;TZID=Europe/Amsterdam:20190526T113000
LOCATION:Heusden-Zolder
DESCRIPTION: yoga les in een flow
STATUS:CONFIRMED
SEQUENCE:0
END:VEVENT
END:VCALENDAR