BEGIN:VCALENDAR
VERSION:2.0
CALSCALE:GREGORIAN
BEGIN:VEVENT
SUMMARY:Sensation yoga
DTSTART;TZID=Europe/Amsterdam:20190503T181500
DTEND;TZID=Europe/Amsterdam:20190503T191500
LOCATION:Heusden-Zolder
DESCRIPTION: Combi van yoga, ritm, dance en meditatie! ?‍♂️Voldaan het weekend in!
STATUS:CONFIRMED
SEQUENCE:0
END:VEVENT
END:VCALENDAR