BEGIN:VCALENDAR
VERSION:2.0
CALSCALE:GREGORIAN
BEGIN:VEVENT
SUMMARY:ASHTANGA YOGA FULL PRIMARY COUNTED CLASS
DTSTART;TZID=Europe/Amsterdam:20190507T200000
DTEND;TZID=Europe/Amsterdam:20190507T213000
LOCATION:Heusden-Zolder
DESCRIPTION: Deze asthanga lessen zijn voor iedereen toegankelijk, ook als je net wilt starten of beginner bent in de yoga. Als je deze reeks gevolgd hebt, kun je doorstromen naar de mysore klassen op maandag. Ook te boeken als Asthanga opleiding.
STATUS:CONFIRMED
SEQUENCE:0
END:VEVENT
END:VCALENDAR