BEGIN:VCALENDAR
VERSION:2.0
CALSCALE:GREGORIAN
BEGIN:VEVENT
SUMMARY:Hotyin
DTSTART;TZID=Europe/Amsterdam:20190523T203000
DTEND;TZID=Europe/Amsterdam:20190523T213000
LOCATION:Heusden-Zolder
DESCRIPTION: Rustige yin yoga voor iedereen toegankelijk.
STATUS:CONFIRMED
SEQUENCE:0
END:VEVENT
END:VCALENDAR