BEGIN:VCALENDAR
VERSION:2.0
CALSCALE:GREGORIAN
BEGIN:VEVENT
SUMMARY:Hotyoga 75’
DTSTART;TZID=Europe/Amsterdam:20190602T100000
DTEND;TZID=Europe/Amsterdam:20190602T111500
LOCATION:Heusden-Zolder
DESCRIPTION: Pittige hotyoga les in een infrarood verwarmde ruimte van 40 graden.
STATUS:CONFIRMED
SEQUENCE:0
END:VEVENT
END:VCALENDAR