BEGIN:VCALENDAR
VERSION:2.0
CALSCALE:GREGORIAN
BEGIN:VEVENT
SUMMARY:Elemento Fuoco - trasformazione e calore!
DTSTART;TZID=Europe/Rome:20230218T101500
DTEND;TZID=Europe/Rome:20230218T113000
LOCATION:Yoga Studio Fondamenta
DESCRIPTION: Il fuoco che trasforma!
Lezione dedicata al terzo Cakra e alla forza trasformatrice del fuoco! Energia, creatività, luce sono alcune delle caratteristiche di questo elemento così potente!
STATUS:CONFIRMED
SEQUENCE:0
END:VEVENT
END:VCALENDAR