BEGIN:VCALENDAR
VERSION:2.0
CALSCALE:GREGORIAN
BEGIN:VEVENT
SUMMARY:Buon compleanno YSF (ISCRITTI)
DTSTART;TZID=Europe/Rome:20241012T094500
DTEND;TZID=Europe/Rome:20241012T110000
LOCATION:Yoga Studio Fondamenta
DESCRIPTION: Lezione di yoga gratuita dedicata a chi già frequenta lo studio.
Lezione adatta a tutti.
STATUS:CONFIRMED
SEQUENCE:0
END:VEVENT
END:VCALENDAR