BEGIN:VCALENDAR
VERSION:2.0
CALSCALE:GREGORIAN
BEGIN:VEVENT
SUMMARY:Buon compleanno YSF (NON ISCRITTI)
DTSTART;TZID=Europe/Rome:20241012T114500
DTEND;TZID=Europe/Rome:20241012T130000
LOCATION:Yoga Studio Fondamenta
DESCRIPTION: Lezione di yoga dedicata a chi desidera provare lo studio per la prima volta!
Pratica adatta a tutti!
STATUS:CONFIRMED
SEQUENCE:0
END:VEVENT
END:VCALENDAR