BEGIN:VCALENDAR
VERSION:2.0
CALSCALE:GREGORIAN
BEGIN:VEVENT
SUMMARY:In je kracht zwanger en bevallen. Les 5
DTSTART;TZID=Europe/Amsterdam:20221105T090000
DTEND;TZID=Europe/Amsterdam:20221105T103000
LOCATION:Hoge Ham 17e, Dongen
DESCRIPTION: Let: op we doen ook yoga, dus neem je ontspanningskleding mee!
Les 5 : Gouden uur | Kraamtijd
Laatste les
STATUS:CONFIRMED
SEQUENCE:0
END:VEVENT
END:VCALENDAR