BEGIN:VCALENDAR
VERSION:2.0
CALSCALE:GREGORIAN
BEGIN:VEVENT
SUMMARY:Baby &amp; Me Draazak wandeling
DTSTART;TZID=Europe/Amsterdam:20230211T090000
DTEND;TZID=Europe/Amsterdam:20230211T100000
LOCATION:Hoge Ham 17e, Dongen
DESCRIPTION: Samen een moment buiten in de natuur, je baby in de draagzak. En dan een meditatieve stilte wandeling (met opdracht). En een stukje wandeling waarin je het ouderschap deelt met andere ouders. 
Afsluiting met thee en fruit! 

Locatie: Meeting point, Parkeerplaats Duiventoren
STATUS:CONFIRMED
SEQUENCE:0
END:VEVENT
END:VCALENDAR