BEGIN:VCALENDAR
VERSION:2.0
CALSCALE:GREGORIAN
BEGIN:VEVENT
SUMMARY:Zwangerschaps(yoga)les
DTSTART;TZID=Europe/Amsterdam:20230221T184500
DTEND;TZID=Europe/Amsterdam:20230221T194500
LOCATION:Hoge Ham 17e, Dongen
DESCRIPTION: Een les, waarbij zwanger zijn centraal staat. Een les met volledige focus voor jou en je baby. 
Er wordt gewerkt aan ademhalingstechnieken en fijne houdingen. Tevens is er ruimte voor een kort en gezellig praatje. 
Doe je gezellig een gratis proefles mee?
STATUS:CONFIRMED
SEQUENCE:0
END:VEVENT
END:VCALENDAR