BEGIN:VCALENDAR
VERSION:2.0
CALSCALE:GREGORIAN
BEGIN:VEVENT
SUMMARY:5- weeksecursus, In je kracht zwanger en bevallen. Les 3
DTSTART;TZID=Europe/Amsterdam:20230318T090000
DTEND;TZID=Europe/Amsterdam:20230318T103000
LOCATION:Hoge Ham 17e, Dongen
DESCRIPTION: Let: op we doen ook yoga, dus neem je ontspanningskleding mee!
Les 3: Bevalhoudingen | Wensenplan
STATUS:CONFIRMED
SEQUENCE:0
END:VEVENT
END:VCALENDAR