BEGIN:VCALENDAR
VERSION:2.0
CALSCALE:GREGORIAN
BEGIN:VEVENT
SUMMARY:Γεμίζουμε Αγάπη
DTSTART;TZID=Europe/Athens:20211223T200000
DTEND;TZID=Europe/Athens:20211223T211500
LOCATION:Studio
DESCRIPTION: Μία πρακτική κατάλληλη για όλα τα επίπεδα.
Πρόθεση μας η προσφορά και η δημιουργία.
Ελεύθερη Εισφορά.
Όλα τα έσοδα θα δοθούν στον ΜΚΟ &quot;Το Δίκτυο για τα Δικαιώματα του Παιδιού&quot;.
STATUS:CONFIRMED
SEQUENCE:0
END:VEVENT
END:VCALENDAR