BEGIN:VCALENDAR
VERSION:2.0
CALSCALE:GREGORIAN
BEGIN:VEVENT
SUMMARY:Vinyasa Hatha Flow
DTSTART;TZID=Europe/Athens:20210617T190000
DTEND;TZID=Europe/Athens:20210617T200000
LOCATION:STUDIO &amp; ONLINE
DESCRIPTION: Ένα μάθημα με έντονη ροή που θα ανεβάσεις παλμούς. Εδώ χτίζεις ένα δυνατό γεμάτο Αυτοπεποίθηση σώμα!
STATUS:CONFIRMED
SEQUENCE:0
END:VEVENT
END:VCALENDAR