BEGIN:VCALENDAR
VERSION:2.0
CALSCALE:GREGORIAN
BEGIN:VEVENT
SUMMARY:Yin - Yoga , Deep Stretching
DTSTART;TZID=Europe/Athens:20210503T193000
DTEND;TZID=Europe/Athens:20210503T203000
LOCATION:online via zoom
DESCRIPTION: 
STATUS:CONFIRMED
SEQUENCE:0
END:VEVENT
END:VCALENDAR